BEGIN:VCALENDAR
VERSION:2.0
PRODID:-//Grosse Selhofer Karnevalsgesellschaft von 1927 e.V. - ECPv6.15.17//NONSGML v1.0//EN
CALSCALE:GREGORIAN
METHOD:PUBLISH
X-ORIGINAL-URL:https://grosse-selhofer-kg.de
X-WR-CALDESC:Veranstaltungen für Grosse Selhofer Karnevalsgesellschaft von 1927 e.V.
REFRESH-INTERVAL;VALUE=DURATION:PT1H
X-Robots-Tag:noindex
X-PUBLISHED-TTL:PT1H
BEGIN:VTIMEZONE
TZID:Europe/Helsinki
BEGIN:DAYLIGHT
TZOFFSETFROM:+0200
TZOFFSETTO:+0300
TZNAME:EEST
DTSTART:20240331T010000
END:DAYLIGHT
BEGIN:STANDARD
TZOFFSETFROM:+0300
TZOFFSETTO:+0200
TZNAME:EET
DTSTART:20241027T010000
END:STANDARD
BEGIN:DAYLIGHT
TZOFFSETFROM:+0200
TZOFFSETTO:+0300
TZNAME:EEST
DTSTART:20250330T010000
END:DAYLIGHT
BEGIN:STANDARD
TZOFFSETFROM:+0300
TZOFFSETTO:+0200
TZNAME:EET
DTSTART:20251026T010000
END:STANDARD
BEGIN:DAYLIGHT
TZOFFSETFROM:+0200
TZOFFSETTO:+0300
TZNAME:EEST
DTSTART:20260329T010000
END:DAYLIGHT
BEGIN:STANDARD
TZOFFSETFROM:+0300
TZOFFSETTO:+0200
TZNAME:EET
DTSTART:20261025T010000
END:STANDARD
END:VTIMEZONE
BEGIN:VEVENT
DTSTART;TZID=Europe/Helsinki:20250302T151100
DTEND;TZID=Europe/Helsinki:20250302T170000
DTSTAMP:20260421T084443
CREATED:20241103T163028Z
LAST-MODIFIED:20241103T163028Z
UID:705-1740928260-1740934800@grosse-selhofer-kg.de
SUMMARY:Siebengebirgszug Königswinter
DESCRIPTION:Abfahrt 15.11
URL:https://grosse-selhofer-kg.de/index.php/event/siebengebirgszug-koenigswinter/
END:VEVENT
END:VCALENDAR